BEGIN:VCALENDAR
PRODID:/Konzermeister/Konzertmeister/DE
CALSCALE:GREGORIAN
NAME:Konzertmeister
VERSION:2.0
BEGIN:VEVENT
DTSTAMP:20260422T135656Z
DTSTART:20260424T173000Z
DTEND:20260424T193000Z
SUMMARY:Probe ( Blaskapelle Ovenhausen e.V. (Stammorchester))
UID:3537722
URL:https://web.konzertmeister.app/appointment/3537722
DESCRIPTION:Probe
END:VEVENT
BEGIN:VEVENT
DTSTAMP:20260422T135656Z
DTSTART:20260426T130000Z
DTEND:20260426T150000Z
SUMMARY:Konzert Förderverein Landesgartenschau ( Blaskapelle Ovenhausen e.V. (Stammorchester))
UID:3782244
URL:https://web.konzertmeister.app/appointment/3782244
DESCRIPTION:Auftritt - Spielzeit ab 15 Uhr etwa 2 Stunden \nAm Platz der Ortschaften in Höxter.\nZunächst findet eine Radtour statt\, wir begleiten den Ausklang der Radfahrer 
END:VEVENT
BEGIN:VEVENT
DTSTAMP:20260422T135656Z
DTSTART:20260508T173000Z
DTEND:20260508T193000Z
SUMMARY:Probe ( Blaskapelle Ovenhausen e.V. (Stammorchester))
UID:3909419
URL:https://web.konzertmeister.app/appointment/3909419
DESCRIPTION:Probe
END:VEVENT
BEGIN:VEVENT
DTSTAMP:20260422T135656Z
DTSTART:20260522T173000Z
DTEND:20260522T193000Z
SUMMARY:Probe ( Blaskapelle Ovenhausen e.V. (Stammorchester))
UID:3909423
URL:https://web.konzertmeister.app/appointment/3909423
DESCRIPTION:Probe
END:VEVENT
BEGIN:VEVENT
DTSTAMP:20260422T135656Z
DTSTART:20260529T173000Z
DTEND:20260529T193000Z
SUMMARY:Probe ( Blaskapelle Ovenhausen e.V. (Stammorchester))
UID:3909428
URL:https://web.konzertmeister.app/appointment/3909428
DESCRIPTION:Probe
END:VEVENT
BEGIN:VEVENT
DTSTAMP:20260422T135656Z
DTSTART:20260605T173000Z
DTEND:20260605T193000Z
SUMMARY:Probe ( Blaskapelle Ovenhausen e.V. (Stammorchester))
UID:3909431
URL:https://web.konzertmeister.app/appointment/3909431
DESCRIPTION:Probe
END:VEVENT
BEGIN:VEVENT
DTSTAMP:20260422T135656Z
DTSTART:20260612T173000Z
DTEND:20260612T193000Z
SUMMARY:Probe ( Blaskapelle Ovenhausen e.V. (Stammorchester))
UID:3909434
URL:https://web.konzertmeister.app/appointment/3909434
DESCRIPTION:Probe
END:VEVENT
BEGIN:VEVENT
DTSTAMP:20260422T135656Z
DTSTART:20260619T173000Z
DTEND:20260619T193000Z
SUMMARY:Probe ( Blaskapelle Ovenhausen e.V. (Stammorchester))
UID:3909435
URL:https://web.konzertmeister.app/appointment/3909435
DESCRIPTION:Probe
END:VEVENT
BEGIN:VEVENT
DTSTAMP:20260422T135656Z
DTSTART:20260703T173000Z
DTEND:20260703T193000Z
SUMMARY:Probe ( Blaskapelle Ovenhausen e.V. (Stammorchester))
UID:3909427
URL:https://web.konzertmeister.app/appointment/3909427
DESCRIPTION:Probe
END:VEVENT
BEGIN:VEVENT
DTSTAMP:20260422T135656Z
DTSTART:20260710T173000Z
DTEND:20260710T193000Z
SUMMARY:Probe ( Blaskapelle Ovenhausen e.V. (Stammorchester))
UID:3909430
URL:https://web.konzertmeister.app/appointment/3909430
DESCRIPTION:Probe
END:VEVENT
BEGIN:VEVENT
DTSTAMP:20260422T135656Z
DTSTART:20260717T173000Z
DTEND:20260717T193000Z
SUMMARY:Probe ( Blaskapelle Ovenhausen e.V. (Stammorchester))
UID:3909432
URL:https://web.konzertmeister.app/appointment/3909432
DESCRIPTION:Probe
END:VEVENT
BEGIN:VEVENT
DTSTAMP:20260422T135656Z
DTSTART:20260724T173000Z
DTEND:20260724T193000Z
SUMMARY:Probe ( Blaskapelle Ovenhausen e.V. (Stammorchester))
UID:3909437
URL:https://web.konzertmeister.app/appointment/3909437
DESCRIPTION:Probe
END:VEVENT
BEGIN:VEVENT
DTSTAMP:20260422T135656Z
DTSTART:20260731T173000Z
DTEND:20260731T193000Z
SUMMARY:Probe ( Blaskapelle Ovenhausen e.V. (Stammorchester))
UID:3909425
URL:https://web.konzertmeister.app/appointment/3909425
DESCRIPTION:Probe
END:VEVENT
BEGIN:VEVENT
DTSTAMP:20260422T135656Z
DTSTART:20260807T173000Z
DTEND:20260807T193000Z
SUMMARY:Probe ( Blaskapelle Ovenhausen e.V. (Stammorchester))
UID:3909426
URL:https://web.konzertmeister.app/appointment/3909426
DESCRIPTION:Probe
END:VEVENT
BEGIN:VEVENT
DTSTAMP:20260422T135656Z
DTSTART:20260814T173000Z
DTEND:20260814T193000Z
SUMMARY:Probe ( Blaskapelle Ovenhausen e.V. (Stammorchester))
UID:3909429
URL:https://web.konzertmeister.app/appointment/3909429
DESCRIPTION:Probe
END:VEVENT
BEGIN:VEVENT
DTSTAMP:20260422T135656Z
DTSTART:20260821T173000Z
DTEND:20260821T193000Z
SUMMARY:Probe ( Blaskapelle Ovenhausen e.V. (Stammorchester))
UID:3909433
URL:https://web.konzertmeister.app/appointment/3909433
DESCRIPTION:Probe
END:VEVENT
BEGIN:VEVENT
DTSTAMP:20260422T135656Z
DTSTART:20260828T173000Z
DTEND:20260828T193000Z
SUMMARY:Probe ( Blaskapelle Ovenhausen e.V. (Stammorchester))
UID:3909436
URL:https://web.konzertmeister.app/appointment/3909436
DESCRIPTION:Probe
END:VEVENT
BEGIN:VEVENT
DTSTAMP:20260422T135656Z
DTSTART:20260904T090000Z
DTEND:20260906T160000Z
SUMMARY:Vereinsfahrt Bamberg ( Blaskapelle Ovenhausen e.V. (Stammorchester))
UID:3489312
URL:https://web.konzertmeister.app/appointment/3489312
DESCRIPTION:Sonstiges - Bitte Begleitpersonen nennen 
END:VEVENT
END:VCALENDAR
